BEGIN:VCALENDAR
PRODID:-//eluceo/ical//2.0/EN
VERSION:2.0
CALSCALE:GREGORIAN
BEGIN:VEVENT
UID:4b61097a28a3efded7bae7e2927fe8ce
DTSTAMP:20260421T080606Z
SUMMARY:M. André Duvillard "Une police unique"
DESCRIPTION:Orador(es): M. André Duvillard
URL:https://neuchatel.rotary1990.ch/es/agenda/show/13422
DTSTART;TZID=Europe/Zurich:20100223T121500
DTEND;TZID=Europe/Zurich:20100223T121500
LOCATION:Restaurant des Halles à Neuchâtel
CATEGORIES:Rotary
END:VEVENT
BEGIN:VTIMEZONE
TZID:Europe/Zurich
BEGIN:STANDARD
DTSTART:20100223T121500
TZNAME:CET
TZOFFSETTO:+0100
TZOFFSETFROM:+0100
END:STANDARD
END:VTIMEZONE
END:VCALENDAR
