BEGIN:VCALENDAR
PRODID:-//eluceo/ical//2.0/EN
VERSION:2.0
CALSCALE:GREGORIAN
BEGIN:VEVENT
UID:f530f1610429e69e28e24a376e97a3b6
DTSTAMP:20260420T165120Z
SUMMARY:Le Cabaret nucléaire d'Irina au Théâtre du Pommier à Neuchâtel
 \, cocktail dinatoire à 18h30\, spectacle à 20h00
DESCRIPTION:Étrange et radioactive\, Irina expérimente\, lit dans nos pen
 sées\, chante\, suce des queues de hareng et nous parle de son pays. Un c
 abaret délirant qui nous rappelle que Tchernobyl pourrait être en face d
 e chez vous ! Prix tout compris CHF 65.- (repas\, vins\, boissons et spect
 acle) ! \nReferenten/innen: Irina
URL:https://neuchatel.rotary1990.ch/de/agenda/show/19785
DTSTART;TZID=Europe/Zurich:20111108T183000
DTEND;TZID=Europe/Zurich:20111108T183000
LOCATION:Thâtre du Pommier à Neuchâtel
CATEGORIES:Rotary
END:VEVENT
BEGIN:VTIMEZONE
TZID:Europe/Zurich
BEGIN:STANDARD
DTSTART:20111108T183000
TZNAME:CET
TZOFFSETTO:+0100
TZOFFSETFROM:+0100
END:STANDARD
END:VTIMEZONE
END:VCALENDAR
